BEGIN:VCALENDAR
VERSION:2.0
PRODID:-//SSVP Scotland - ECPv6.15.20//NONSGML v1.0//EN
CALSCALE:GREGORIAN
METHOD:PUBLISH
X-ORIGINAL-URL:https://www.ssvpscotland.com
X-WR-CALDESC:Events for SSVP Scotland
REFRESH-INTERVAL;VALUE=DURATION:PT1H
X-Robots-Tag:noindex
X-PUBLISHED-TTL:PT1H
BEGIN:VTIMEZONE
TZID:UTC
BEGIN:STANDARD
TZOFFSETFROM:+0000
TZOFFSETTO:+0000
TZNAME:UTC
DTSTART:20160101T000000
END:STANDARD
END:VTIMEZONE
BEGIN:VEVENT
DTSTART;VALUE=DATE:20180621
DTEND;VALUE=DATE:20180622
DTSTAMP:20260421T145130
CREATED:20180226T155342Z
LAST-MODIFIED:20180404T140816Z
UID:4087-1529539200-1529625599@www.ssvpscotland.com
SUMMARY:Date for June -  Glasgow Mini Vinnies Day
DESCRIPTION:Mini Vinnies Assemble\nThis year’s Mini Vinnies Day will be held at “The Space”\, 20 Bellisle St\, Glasgow G42 8HJ on Thursday 21st June 2018\, 10-2pm. \nThe theme for this years event will be “Serving the Common Good” \nIt was a great success last year\, so we are looking forward to this year’s event. \n  \n  \n 
URL:https://www.ssvpscotland.com/event/date-june-mini-vinnies-national-day/
CATEGORIES:Community,Glasgow,Mini Vinnies,Motherwell,national,Paisley,spirituality,St Andrew's & Edinburgh,Youth SSVP
ATTACH;FMTTYPE=image/png:https://www.ssvpscotland.com/site/wp-content/uploads/1-3.png
END:VEVENT
BEGIN:VEVENT
DTSTART;TZID=UTC:20180616T120000
DTEND;TZID=UTC:20180616T140000
DTSTAMP:20260421T145130
CREATED:20180222T145032Z
LAST-MODIFIED:20180419T122915Z
UID:4048-1529150400-1529157600@www.ssvpscotland.com
SUMMARY:A Date for the National Mass
DESCRIPTION:Annual National Mass\nThe National Mass will be held in the Chapel at Gillis Centre\, 100 Strathearn Road\, Edinburgh EH9 1BB on Saturday 16th June 2018 @ 12 noon. \nArchbishop Leo Cushley will be the main celebrant. \n 
URL:https://www.ssvpscotland.com/event/date-national-mass/
LOCATION:Gillis Centre\, 100 Strathearn Road\, Edinburgh\, EH9 1BB
CATEGORIES:Community,Glasgow,Motherwell,Music,national,Paisley,spirituality,St Andrew's & Edinburgh,Youth SSVP
ATTACH;FMTTYPE=image/jpeg:https://www.ssvpscotland.com/site/wp-content/uploads/gillis-centre-chapel.jpg
END:VEVENT
BEGIN:VEVENT
DTSTART;TZID=UTC:20180423T193000
DTEND;TZID=UTC:20180423T210000
DTSTAMP:20260421T145130
CREATED:20180222T140410Z
LAST-MODIFIED:20180222T142305Z
UID:4028-1524511800-1524517200@www.ssvpscotland.com
SUMMARY:Annual Ozanam Talk
DESCRIPTION:Glasgow Archdiocese Ozanam Talk\n \n  \n  \n  \nThe Annual Ozanam talk will be held in Blessed John Duns Scotus Hall\, 270 Ballatar Street\, Gorbals G5 0YT on Monday 23 April 2018 @ 7.30pm. \nThe theme this year will be ‘Whoever Welcomes One of These Little Children’ and the speaker is Mr John Deighan\, CEO of SPUC Scotland. \nGlasgow Archdiocese hope that you will be able to join them for this event. \n  \n  \n 
URL:https://www.ssvpscotland.com/event/annual-ozanam-talk-2/
LOCATION:Blessed John Duns Scotus Rc Church Hall\, 270 Ballater Street\, \, Glasgow\, G2 0YT
CATEGORIES:Community,Glasgow,Motherwell,national,Paisley,spirituality,St Andrew's & Edinburgh
END:VEVENT
BEGIN:VEVENT
DTSTART;VALUE=DATE:20170930
DTEND;VALUE=DATE:20171001
DTSTAMP:20260421T145130
CREATED:20170921T141604Z
LAST-MODIFIED:20170921T150819Z
UID:3828-1506729600-1506815999@www.ssvpscotland.com
SUMMARY:VINCENTIAN 400th ANNIVERSARY MASS
DESCRIPTION:   VIP Annual Family Mass\n\n\n\nVincentians in partnership will celebrate their annual family mass in St Francis Xavier’s\, Carfin on Saturday 30th September 2017. \nRosary procession at 1pm followed by mass at 2pm\, Bishop of Motherwell Rt Reverend Joseph Toal will be the main celebrant. \nThe anniversary theme is “Welcome the Stranger” and it is hoped as many members and friends will be able to join in this special 4ooth anniversary of Vincentian Charism. \nRefreshments in the Carfin cafeteria from 11.30am onwards. \n  \n  \n  \n  \n  \n 
URL:https://www.ssvpscotland.com/event/vincentian-400th-anniversary-mass/
CATEGORIES:Community,Motherwell,national,spirituality
END:VEVENT
BEGIN:VEVENT
DTSTART;TZID=UTC:20170822T193000
DTEND;TZID=UTC:20170822T210000
DTSTAMP:20260421T145130
CREATED:20170817T125251Z
LAST-MODIFIED:20170817T125251Z
UID:3811-1503430200-1503435600@www.ssvpscotland.com
SUMMARY:400th Anniversary Mass - Motherwell Diocese
DESCRIPTION:Celebration of the 400th Anniversary of the Vincentian Charism\nSSVP members in the Diocese of Motherwell are celebrating the 400th Anniversary of Vincentian Spirituality on Tuesday 22nd August at 730pm\, in Our Lady of Good Aid Cathedral\, Motherwell.  The main celebrant will be the Right Reverend Joseph Toal\, Bishop of Motherwell. \nThere will be light refreshments available in St Bride’s Hall after mass which all are welcome to attend. In order to arrange numbers with the caterer\, please contact motherwelldc@ssvpscotland.com. \n  \n 
URL:https://www.ssvpscotland.com/event/400th-anniversary-mass-motherwell-diocese/
CATEGORIES:Community,formation,Motherwell,spirituality
ATTACH;FMTTYPE=image/jpeg:https://www.ssvpscotland.com/site/wp-content/uploads/rcdom_logo2.jpg
END:VEVENT
END:VCALENDAR