BEGIN:VCALENDAR
VERSION:2.0
PRODID:-//SSVP Scotland - ECPv6.15.20//NONSGML v1.0//EN
CALSCALE:GREGORIAN
METHOD:PUBLISH
X-WR-CALNAME:SSVP Scotland
X-ORIGINAL-URL:https://www.ssvpscotland.com
X-WR-CALDESC:Events for SSVP Scotland
REFRESH-INTERVAL;VALUE=DURATION:PT1H
X-Robots-Tag:noindex
X-PUBLISHED-TTL:PT1H
BEGIN:VTIMEZONE
TZID:UTC
BEGIN:STANDARD
TZOFFSETFROM:+0000
TZOFFSETTO:+0000
TZNAME:UTC
DTSTART:20160101T000000
END:STANDARD
END:VTIMEZONE
BEGIN:VEVENT
DTSTART;TZID=UTC:20190831T100000
DTEND;TZID=UTC:20190831T160000
DTSTAMP:20260421T132954
CREATED:20190819T121517Z
LAST-MODIFIED:20190819T121749Z
UID:4758-1567245600-1567267200@www.ssvpscotland.com
SUMMARY:National Annual Meeting - Update
DESCRIPTION:National Annual Meeting Update!!\nOur National Meeting is on Saturday 31st August 2019 at the Golden Jubilee Hotel and Conference Centre in Clydebank from 10 -4pm\, \nThe theme this year is “Housing is a human right” \nThe day will start with Mass at 10am with Bishop John Keenan of the Paisley Diocese\,  as the main celebrant. \nImportant information:  there are diversions in place at the hotel so please make sure you have a look at the link showing details: road diversions \nPlease note parking is still available as usual and there is no change for to pedestrians going to the hotel. \n  \n  \n 
URL:https://www.ssvpscotland.com/event/national-annual-meeting-update/
LOCATION:Golden Jubilee Conference Centre\, Beardmore Street\, Clydebank\, G81 4SA
CATEGORIES:Mini Vinnies,Music,national,spirituality
END:VEVENT
BEGIN:VEVENT
DTSTART;TZID=UTC:20190629T120000
DTEND;TZID=UTC:20190629T140000
DTSTAMP:20260421T132954
CREATED:20190403T114429Z
LAST-MODIFIED:20190403T114430Z
UID:4692-1561809600-1561816800@www.ssvpscotland.com
SUMMARY:A Date for Annual National Mass
DESCRIPTION:National Mass & Act of Consecration to the Sacred Heart\nThis year’s Annual National Mass will be held in St Margaret’s Chapel\, Gillis Centre\,  100 Strathearn Rd\, Edinbugh EH9 1BB\, on Saturday the 29th June 2019 @ 12 noon. \nArchbishop Leo Cushley will be the main celebrant. \n  \n  \n 
URL:https://www.ssvpscotland.com/event/a-date-for-annual-national-mass/
LOCATION:Gillis Centre\, 100 Strathearn Road\, Edinburgh\, EH9 1BB
CATEGORIES:Aberdeen,Community,Dunkeld,Galloway,Glasgow,Motherwell,Music,national,Paisley,spirituality,St Andrew's & Edinburgh,Youth SSVP
ATTACH;FMTTYPE=image/jpeg:https://www.ssvpscotland.com/site/wp-content/uploads/gillis-centre-chapel.jpg
END:VEVENT
BEGIN:VEVENT
DTSTART;TZID=UTC:20190517T193000
DTEND;TZID=UTC:20190517T223000
DTSTAMP:20260421T132954
CREATED:20190212T114937Z
LAST-MODIFIED:20190212T115114Z
UID:4636-1558121400-1558132200@www.ssvpscotland.com
SUMMARY:Date for your Diary - Annual Glasgow  Concert
DESCRIPTION:Glasgow Annual Concert\n \nThis year the Annual Charity Concert will be held in the Woodside Halls\, 36 Glenfarg St\,  Glasgow G20 7QE\, Clarendon St entrance\, on Friday 17th May 2019 @7.30pm. \nThe evening entertainment will be Gordon Cree and Cheryl Forbes\, along with St Roch’s under 15’s Ceilidh Band. \nIf you looking for a great night out\, please come and join our Charity Concert. \nTickets are £12 and are available from: SSVP head office in 113 West Regent St\, Glasgow G2 2RU Tel: 0141 226 8833 \n  \n  \n  \n  \n  \n  \n  \n  \n 
URL:https://www.ssvpscotland.com/event/date-for-your-diary-annual-glasgow-concert/
LOCATION:Woodside Halls Glenfarg Street Glasgow G20 7QE
CATEGORIES:Community,entertainment,fundraising,Glasgow,Music
END:VEVENT
BEGIN:VEVENT
DTSTART;TZID=UTC:20181117T120000
DTEND;TZID=UTC:20181117T140000
DTSTAMP:20260421T132954
CREATED:20181023T121821Z
LAST-MODIFIED:20181023T121821Z
UID:4393-1542456000-1542463200@www.ssvpscotland.com
SUMMARY:St Andrews & Edinburgh Annual Mass
DESCRIPTION:Date for the Diary\nThe Diocese of St Andrews & Edinburgh’s Annual Mass\, will be held in St Michael’s Church\,  53 Blackness Road\, Linlithgow EH49 7JA\,  on Saturday 17th November 2018 @ 2pm. \nArchbishop Cushley\, will be the main celebrant and an invitation is extended to Parish Priests in the Diocese to come along and concelebrate on this joyous occasion. \nA buffet will be provided after the mass which will give an opportunity to catch up with old friends and make some new ones. \nPlease let the Diocesan President or your Group president know if attending\, to facilitate numbers for the buffet. \nCome along and join us for this special mass. \n  \n  \n 
URL:https://www.ssvpscotland.com/event/st-andrews-edinburgh-annual-mass/
LOCATION:St Michael’s Church\, 53 Blackness Road\, Linlithgow\, EH49 7JA
CATEGORIES:Community,Music,national,spirituality,St Andrew's & Edinburgh
END:VEVENT
BEGIN:VEVENT
DTSTART;TZID=UTC:20180824T193000
DTEND;TZID=UTC:20180824T213000
DTSTAMP:20260421T132954
CREATED:20180222T152054Z
LAST-MODIFIED:20180222T152054Z
UID:4053-1535139000-1535146200@www.ssvpscotland.com
SUMMARY:170th Anniversary Celebration
DESCRIPTION:Glasgow 17oth Anniversary Mass\nThere will be a 170th Anniversary Mass held in St Andrew’s Cathedral\, Clyde Street\, Glasgow G1 4ER @ 7.30pm on Friday the 24th August 2018. The main celebrant will be Archbishop Tartaglia. \nThere will be tea and coffee afterwards. \nFurther details to follow. \n  \n  \n 
URL:https://www.ssvpscotland.com/event/170th-anniversary-celebration/
LOCATION:St Andrew’s\, Cathedral Clyde Street\, Glasgow G1 4ER
CATEGORIES:Community,Glasgow,Music,spirituality,Youth SSVP
ATTACH;FMTTYPE=image/jpeg:https://www.ssvpscotland.com/site/wp-content/uploads/st-andr.jpg
END:VEVENT
BEGIN:VEVENT
DTSTART;TZID=UTC:20180616T120000
DTEND;TZID=UTC:20180616T140000
DTSTAMP:20260421T132954
CREATED:20180222T145032Z
LAST-MODIFIED:20180419T122915Z
UID:4048-1529150400-1529157600@www.ssvpscotland.com
SUMMARY:A Date for the National Mass
DESCRIPTION:Annual National Mass\nThe National Mass will be held in the Chapel at Gillis Centre\, 100 Strathearn Road\, Edinburgh EH9 1BB on Saturday 16th June 2018 @ 12 noon. \nArchbishop Leo Cushley will be the main celebrant. \n 
URL:https://www.ssvpscotland.com/event/date-national-mass/
LOCATION:Gillis Centre\, 100 Strathearn Road\, Edinburgh\, EH9 1BB
CATEGORIES:Community,Glasgow,Motherwell,Music,national,Paisley,spirituality,St Andrew's & Edinburgh,Youth SSVP
ATTACH;FMTTYPE=image/jpeg:https://www.ssvpscotland.com/site/wp-content/uploads/gillis-centre-chapel.jpg
END:VEVENT
BEGIN:VEVENT
DTSTART;TZID=UTC:20180518T193000
DTEND;TZID=UTC:20180518T220000
DTSTAMP:20260421T132954
CREATED:20180222T142203Z
LAST-MODIFIED:20180409T143331Z
UID:4038-1526671800-1526680800@www.ssvpscotland.com
SUMMARY:Glasgow Concert  - NEWSFLASH!!
DESCRIPTION:Glasgow Annual Concert\n \n  \nThis year the Glasgow Concert has a change of venue\, it will be held in the Mitchell Theatre\, 6 Granville St\, Glasgow G3 7DR on Friday 18th May 2018 @ 730pm. \nFor your nights entertainment the acts for 2018 will be\, Geoff Graham\, The Jim McLelland Trio\, Eddie Devine Luckenbooth (Folk Group)\, Campbell kerr & Robert Fyfe. \nPlease make sure to book your tickets early for the summer concert. Price £12 per ticket. \nLooking forward to seeing you all for a great night. \n  \n  \n  \n  \n  \n  \n 
URL:https://www.ssvpscotland.com/event/glasgow-concert/
LOCATION:Mitchell Theatre\, 6 Granville St\, Glasgow G3 7DR
CATEGORIES:Community,entertainment,fundraising,Glasgow,Music,national
END:VEVENT
BEGIN:VEVENT
DTSTART;TZID=UTC:20170512T193000
DTEND;TZID=UTC:20170512T220000
DTSTAMP:20260421T132954
CREATED:20170411T094144Z
LAST-MODIFIED:20170411T101023Z
UID:3732-1494617400-1494626400@www.ssvpscotland.com
SUMMARY:SSVP Glasgow Annual Concert
DESCRIPTION:An evening of quality entertainment awaits you at the Annual Charity Concert 2017!\nA packed evening will see Geoff Graham\, the Gordon Cree Trio\, Alastair McDonald and Eddie Devine entertaining  on Friday 12th May\, from 7.30 to 10pm. \nNot only is a great night promised\, but your £12 ticket money will help the Ozanam Centre. They  provide food\, clothing and a warm welcome in Glasgow’s City centre. \nThe centre\, which has been operating  for many years is run solely by volunteers . It opens three times a week to welcome some of the poorest and vulnerable people from in and around Glasgow. The Ozanam Centre is a ‘special works’ project of the Society of St Vincent de Paul. \nTo purchase tickets for the concert\, please contact SSVP National Office on 0141 226 8833 or email admin@ssvpscotland.com \n 
URL:https://www.ssvpscotland.com/event/ssvp-glasgow-annual-concert/
LOCATION:Woodside Halls\, Glenfarg Street\, Glasgow G20 7QE\, Glenfarg Street\, Glasgow\, United Kingdom
CATEGORIES:Community,entertainment,fundraising,Glasgow,Music
ATTACH;FMTTYPE=image/png:https://www.ssvpscotland.com/site/wp-content/uploads/Untitled-design-3.png
END:VEVENT
END:VCALENDAR