BEGIN:VCALENDAR
VERSION:2.0
PRODID:-//SSVP Scotland - ECPv6.15.20//NONSGML v1.0//EN
CALSCALE:GREGORIAN
METHOD:PUBLISH
X-ORIGINAL-URL:https://www.ssvpscotland.com
X-WR-CALDESC:Events for SSVP Scotland
REFRESH-INTERVAL;VALUE=DURATION:PT1H
X-Robots-Tag:noindex
X-PUBLISHED-TTL:PT1H
BEGIN:VTIMEZONE
TZID:UTC
BEGIN:STANDARD
TZOFFSETFROM:+0000
TZOFFSETTO:+0000
TZNAME:UTC
DTSTART:20160101T000000
END:STANDARD
END:VTIMEZONE
BEGIN:VEVENT
DTSTART;TZID=UTC:20170822T193000
DTEND;TZID=UTC:20170822T210000
DTSTAMP:20260421T164235
CREATED:20170817T125251Z
LAST-MODIFIED:20170817T125251Z
UID:3811-1503430200-1503435600@www.ssvpscotland.com
SUMMARY:400th Anniversary Mass - Motherwell Diocese
DESCRIPTION:Celebration of the 400th Anniversary of the Vincentian Charism\nSSVP members in the Diocese of Motherwell are celebrating the 400th Anniversary of Vincentian Spirituality on Tuesday 22nd August at 730pm\, in Our Lady of Good Aid Cathedral\, Motherwell.  The main celebrant will be the Right Reverend Joseph Toal\, Bishop of Motherwell. \nThere will be light refreshments available in St Bride’s Hall after mass which all are welcome to attend. In order to arrange numbers with the caterer\, please contact motherwelldc@ssvpscotland.com. \n  \n 
URL:https://www.ssvpscotland.com/event/400th-anniversary-mass-motherwell-diocese/
CATEGORIES:Community,formation,Motherwell,spirituality
ATTACH;FMTTYPE=image/jpeg:https://www.ssvpscotland.com/site/wp-content/uploads/rcdom_logo2.jpg
END:VEVENT
BEGIN:VEVENT
DTSTART;TZID=UTC:20170701T120000
DTEND;TZID=UTC:20170701T140000
DTSTAMP:20260421T164235
CREATED:20170519T092836Z
LAST-MODIFIED:20170526T080839Z
UID:3771-1498910400-1498917600@www.ssvpscotland.com
SUMMARY:SSVP Annual National Mass
DESCRIPTION:Consecration to the Sacred Heart    \nJoin with members from across the country in a joyful celebration in Consecration to the Sacred Heart. Re-introduced in 2016\, the Mass provides the opportunity for members to spend time together in prayer and friendship. \n  \nArchbishop Leo Cushley will once again celebrate the Mass\, which will be held in the magnificent surroundings of the Gillis Centre in Edinburgh’s south side.  All are then welcome to enjoy light refreshments in the hall after Mass. \n  \nAll are most welcome to attend this Mass\, however we would be grateful if any Conferences with  more than 4 people attending could notify SSVP National Office on 0141 226 8833 or email admin@ssvpscotland.com to allow organisers to account for numbers for catering. \n  \n  \n 
URL:https://www.ssvpscotland.com/event/ssvp-annual-national-mass/
LOCATION:Gillis Centre\, 100 Strathearn Road\, Edinburgh\, EH9 1BB
CATEGORIES:Community,national,spirituality,St Andrew's & Edinburgh
ATTACH;FMTTYPE=image/jpeg:https://www.ssvpscotland.com/site/wp-content/uploads/gillis-centre.jpg
END:VEVENT
BEGIN:VEVENT
DTSTART;TZID=UTC:20170624T150000
DTEND;TZID=UTC:20170624T170000
DTSTAMP:20260421T164235
CREATED:20170411T095438Z
LAST-MODIFIED:20170411T095438Z
UID:3735-1498316400-1498323600@www.ssvpscotland.com
SUMMARY:400th Anniversary Mass-Liverpool Cathedral
DESCRIPTION:Members of the Vincentian Family from across the UK will gather in celebration to mark the 400th Anniversary of the Vincentian Charism.    Archbishop Malcolm Mc Mahon\,  Archbishop of Liverpool will celebrate Mass. \n  \n  \n 
URL:https://www.ssvpscotland.com/event/400th-anniversary-mass-liverpool-cathedral/
LOCATION:Liverpool Cathedral
CATEGORIES:Community,national,spirituality
ATTACH;FMTTYPE=image/png:https://www.ssvpscotland.com/site/wp-content/uploads/vin-400.png
END:VEVENT
BEGIN:VEVENT
DTSTART;TZID=UTC:20170622T100000
DTEND;TZID=UTC:20170622T140000
DTSTAMP:20260421T164235
CREATED:20170411T100322Z
LAST-MODIFIED:20170411T100915Z
UID:3738-1498125600-1498140000@www.ssvpscotland.com
SUMMARY:Mini Vinnies Assemble!
DESCRIPTION:Mini Vinnies members from across the Archdiocese of Glasgow will gather for the first time to learn and celebrate all that is great about being a Mini Vinnie! \nAccompanied by their teachers\, they will be joined by the SSVP members who support them. The theme of the 400th Anniversary of the Vincentian charism\, ‘Welcome the Stranger’\, will also be the theme for the event. \nIn addition to learning about topics under the theme\, the Mini Vinnies(and their teachers) will spend time getting to know one another and sharing their experiences and ideas. \n  \nIf you run or know of a Mini Vinnies group in Glasgow and they have not yet been invited to this event\, please contact Clare on 0141 226 8833 or email youth@ssvpscotland.com
URL:https://www.ssvpscotland.com/event/mini-vinnies-assemble/
LOCATION:The Space\, Belleisle Street\, Glasgow
CATEGORIES:Community,formation,Glasgow,Mini Vinnies,Outreach,spirituality
ATTACH;FMTTYPE=image/jpeg:https://www.ssvpscotland.com/site/wp-content/uploads/Mini-Vinnies-Logo-online.jpg
END:VEVENT
END:VCALENDAR